{"text_format":"1","workbook":"xlsx","n_sheets":4,"sheets":["コンぺ内容入力","コンペ確認書","組合せ入力","組合せ印刷"],"not_rendered":{"charts":0,"images":0,"macros":1,"external_links":0,"defined_names":0,"comments":1,"pivot_tables":0},"unopened":[],"bounds":{"document_bytes":16777216,"sheet_cells":100000,"rows_first":2000,"rows_last":500,"rows_between":2000,"halvings":0,"cell_chars":16384,"cell_head_chars":4096},"cells_cut":0,"cells_raw":0,"read":"whole","date_system":"1900"}

{"sheet":"コンぺ内容入力","index":0,"n_rows":23,"n_cols":14,"rows_kept":23,"cut":false,"hidden":false,"merged":[[7,2,9,2],[10,9,10,13],[7,4,9,4],[2,4,2,13],[3,4,3,13],[5,4,5,13],[12,9,12,13],[11,9,11,13],[22,4,24,13],[22,2,24,2],[17,6,17,13],[15,11,15,13],[16,11,16,13],[18,6,18,13],[19,2,20,2],[13,2,18,2],[13,6,13,9],[19,4,20,13]]}
["コンペ内容入力画面"]
[]
[null,null,"フリガナ"]
[null,null,"コンペ名"]
[null,null,"幹事様名",null,null,null,"連絡先",null,null,null,null,"ＦＡＸ"]
[null,null,"幹事様住所",null,"〒"]
[null,null,"当日幹事様名",null,null,null,"連絡先",null,null,"組数および人数"]
[null,null,"開催日",null,null,null,"スタートコース",null,null,"コース名選択",null,"時間",null,"スタート時間選択"]
[null,null,null,null,null,null,"スタートコース",null,null,"コース名選択",null,"時間",null,"スタート時間選択"]
[null,null,null,null,null,null,"スタートコース",null,null,"コース名選択",null,"時間",null,"スタート時間選択"]
[null,null,"受付テーブル",null,"　　",null,"プレー代金"]
[null,null,"パーティー",null,null,null,{"$f":"IF(E12=\"有り\",\"パーティー内容\",\"\")","v":""}]
[null,null,"パーティー清算",null,null,null,{"$f":"IF(E13=\"その他\",\"清算方法\",\"\")","v":""}]
[null,null,"集計",null,"集計方法"]
[null,null,null,null,"※ハーフ集計の場合は、６H隠しとなります。"]
[null,null,null,null,"打数制限",null,null,null,null,{"$f":"IF(G16=\"上限有り\",\"ダブルパー\",\"\")","v":""}]
[null,null,null,null,"HDCP",null,null,null,null,null,null,"　　　　      "]
[null,null,null,null,"※同ネットの場合",null,"　　"]
[null,null,null,null,{"$f":"IF(G18=\"その他\",\"条件\",\"\")","v":""}]
[null,null,"成績表追加表示"]
[]
[null,null,"成績表必要枚数",null,null,null,"成績表受取者"]
[null,null,"その他要望"]

{"sheet":"コンペ確認書","index":1,"n_rows":30,"n_cols":20,"rows_kept":30,"cut":false,"hidden":false,"merged":[[20,1,20,19],[26,1,27,19],[28,0,28,19],[29,0,29,19],[2,2,2,11],[3,13,3,19],[3,6,3,12],[3,0,3,5],[8,1,9,19],[24,1,24,5],[24,6,24,19],[25,1,25,4],[25,6,25,9],[25,11,25,14],[25,15,25,19],[22,4,23,19],[22,1,23,3],[16,0,25,0],[11,11,11,19],[12,5,12,19],[11,1,11,10],[12,1,12,4],[21,1,21,19],[13,1,13,19],[14,1,14,19],[15,1,15,19],[16,1,16,3],[16,4,16,19],[17,1,17,19],[18,1,18,3],[18,4,18,19],[19,1,19,3],[19,4,19,19],[6,1,6,9],[6,11,6,13],[6,14,6,18],[7,0,11,0],[7,1,7,19],[10,1,10,10],[10,11,10,19],[4,0,5,0],[4,1,4,3],[4,4,4,19],[5,1,5,19],[0,0,0,3],[1,0,1,19],[2,0,2,1],[2,12,2,13],[2,15,2,16],[2,17,2,19]]}
["松ケ峯カントリー俱楽部　行",null,null,null,"FAX：0255-74-2458"]
["コンペ確認書"]
["コンペ開催日",null,{"$f":"コンぺ内容入力!E8","v":"00:00:00"},null,null,null,null,null,null,null,null,null,{"$f":"コンぺ内容入力!L7","v":0},null,"組",{"$f":"コンぺ内容入力!N7","v":0},null,"名"]
[{"$f":"IF(コンぺ内容入力!J8=\"コース名選択\",\"\",コンぺ内容入力!J8&\"スタート\"&\" \"&TEXT(コンぺ内容入力!N8,\"h:mm～\"))","v":""},null,null,null,null,null,{"$f":"IF(コンぺ内容入力!J9=\"コース名選択\",\"\",コンぺ内容入力!J9&\"スタート\"&\" \"&TEXT(コンぺ内容入力!N9,\"h:mm～\"))","v":""},null,null,null,null,null,null,{"$f":"IF(コンぺ内容入力!J10=\"コース名選択\",\"\",コンぺ内容入力!J10&\"スタート\"&\" \"&TEXT(コンぺ内容入力!N10,\"h:mm～\"))","v":""}]
["コンペ名","フリガナ",null,null,{"$f":"コンぺ内容入力!E3","v":0}]
[null,{"$f":"コンぺ内容入力!E4","v":0}]
["幹事様名",{"$f":"コンぺ内容入力!E5","v":0},null,null,null,null,null,null,null,null,"様","当日幹事",null,null,{"$f":"コンぺ内容入力!E7","v":0},null,null,null,null,"様"]
["幹事様連絡先","（自宅・勤務先）"]
[null,{"$f":"コンぺ内容入力!E6","v":"〒"}]
[]
[null,"TEL",null,null,null,null,null,null,null,null,null,"FAX"]
[null,{"$f":"コンぺ内容入力!J5","v":0},null,null,null,null,null,null,null,null,null,{"$f":"コンぺ内容入力!N5","v":0}]
["受付テーブル",{"$f":"コンぺ内容入力!E11","v":"　　"}]
["プレー代清算方法",{"$f":"コンぺ内容入力!J11","v":0}]
["パーティ（表彰式）",{"$f":"IF(コンぺ内容入力!E12=\"有り\",コンぺ内容入力!E12&コンぺ内容入力!J12,コンぺ内容入力!E12)","v":0}]
["パーティー代清算方法",{"$f":"IF(コンぺ内容入力!E13=\"幹事様一括清算\",コンぺ内容入力!E13&コンぺ内容入力!J13,コンぺ内容入力!E13)","v":0}]
["集計","集計方法",null,null,{"$f":"コンぺ内容入力!G14","v":0}]
[null,"※ハーフ集計の場合は、６H隠しとなります。"]
[null,"打数制限",null,null,{"$f":"IF(コンぺ内容入力!F16=\"上限有り\",コンぺ内容入力!G16&コンぺ内容入力!L16,コンぺ内容入力!J16)","v":""}]
[null,"HDCP",null,null,{"$f":"IF(コンぺ内容入力!F17=\"上限有り\",コンぺ内容入力!G17&コンぺ内容入力!J17,コンぺ内容入力!J17)","v":0}]
[null,{"$f":"IF(コンぺ内容入力!G18=\"その他\",コンぺ内容入力!G19,コンぺ内容入力!G18)","v":"　　"}]
[]
[null,"各賞表示",null,null,{"$f":"コンぺ内容入力!E20","v":0}]
[]
[null,"成績表枚数",null,null,null,null,"成績表受け取り者名"]
[null,{"$f":"コンぺ内容入力!E22","v":0},null,null,null,"枚",{"$f":"コンぺ内容入力!J22","v":0},null,null,null,"様・"]
["備考",{"$f":"コンぺ内容入力!E23","v":0}]
["その他ご要望"]
["上記をご記入いただき、５組以上はプレー日の２週間以内、５組未満は１週間前に組数又は人数を"]
["ご返送下さい。"]

{"sheet":"組合せ入力","index":2,"n_rows":95,"n_cols":7,"rows_kept":95,"cut":false,"hidden":false,"merged":[[34,0,37,0],[66,0,69,0],[70,0,73,0],[74,0,77,0],[78,0,81,0],[42,0,45,0],[46,0,49,0],[50,0,53,0],[54,0,57,0],[58,0,61,0],[62,0,65,0],[38,0,41,0],[78,1,81,1],[34,1,37,1],[38,1,41,1],[42,1,45,1],[46,1,49,1],[50,1,53,1],[54,1,57,1],[58,1,61,1],[62,1,65,1],[66,1,69,1],[70,1,73,1],[74,1,77,1],[94,0,97,0],[94,1,97,1],[82,0,85,0],[82,1,85,1],[86,0,89,0],[86,1,89,1],[90,0,93,0],[90,1,93,1],[30,1,33,1],[2,1,5,1],[6,1,9,1],[2,0,5,0],[6,0,9,0],[10,0,13,0],[14,0,17,0],[10,1,13,1],[14,1,17,1],[18,1,21,1],[22,1,25,1],[26,1,29,1],[18,0,21,0],[22,0,25,0],[26,0,29,0],[30,0,33,0]]}
[null,"組合せ",null,null,null,null,"※コースごとに入力して下さい！"]
["コース","No",null,"氏名",null,null,"ふりがな"]
[null,1]
[]
[]
[]
[null,{"$f":"IF(OR(A3=\"\",A7=\"\"),\"\",IF(A3=A7,B3+1,IF(A3<>A7,1)))","v":""}]
[]
[]
[]
[null,{"$f":"IF(OR(A7=\"\",A11=\"\"),\"\",IF(A7=A11,B7+1,IF(A7<>A11,1)))","v":""}]
[]
[]
[]
[null,{"$f":"IF(OR(A11=\"\",A15=\"\"),\"\",IF(A11=A15,B11+1,IF(A11<>A15,1)))","v":""}]
[]
[]
[]
[null,{"$f":"IF(OR(A15=\"\",A19=\"\"),\"\",IF(A15=A19,B15+1,IF(A15<>A19,1)))","v":""}]
[]
[]
[]
[null,{"$f":"IF(OR(A19=\"\",A23=\"\"),\"\",IF(A19=A23,B19+1,IF(A19<>A23,1)))","v":""}]
[]
[]
[]
[null,{"$f":"IF(OR(A23=\"\",A27=\"\"),\"\",IF(A23=A27,B23+1,IF(A23<>A27,1)))","v":""}]
[]
[]
[]
[null,{"$f":"IF(OR(A27=\"\",A31=\"\"),\"\",IF(A27=A31,B27+1,IF(A27<>A31,1)))","v":""}]
[]
[]
[]
[null,{"$f":"IF(OR(A31=\"\",A35=\"\"),\"\",IF(A31=A35,B31+1,IF(A31<>A35,1)))","v":""}]
[]
[]
[]
[null,{"$f":"IF(OR(A35=\"\",A39=\"\"),\"\",IF(A35=A39,B35+1,IF(A35<>A39,1)))","v":""}]
[]
[]
[]
[null,{"$f":"IF(OR(A39=\"\",A43=\"\"),\"\",IF(A39=A43,B39+1,IF(A39<>A43,1)))","v":""}]
[]
[]
[]
[null,{"$f":"IF(OR(A43=\"\",A47=\"\"),\"\",IF(A43=A47,B43+1,IF(A43<>A47,1)))","v":""}]
[]
[]
[]
[null,{"$f":"IF(OR(A47=\"\",A51=\"\"),\"\",IF(A47=A51,B47+1,IF(A47<>A51,1)))","v":""}]
[]
[]
[]
[null,{"$f":"IF(OR(A51=\"\",A55=\"\"),\"\",IF(A51=A55,B51+1,IF(A51<>A55,1)))","v":""}]
[]
[]
[]
[null,{"$f":"IF(OR(A55=\"\",A59=\"\"),\"\",IF(A55=A59,B55+1,IF(A55<>A59,1)))","v":""}]
[]
[]
[]
[null,{"$f":"IF(OR(A59=\"\",A63=\"\"),\"\",IF(A59=A63,B59+1,IF(A59<>A63,1)))","v":""}]
[]
[]
[]
[null,{"$f":"IF(OR(A63=\"\",A67=\"\"),\"\",IF(A63=A67,B63+1,IF(A63<>A67,1)))","v":""}]
[]
[]
[]
[null,{"$f":"IF(OR(A67=\"\",A71=\"\"),\"\",IF(A67=A71,B67+1,IF(A67<>A71,1)))","v":""}]
[]
[]
[]
[null,{"$f":"IF(OR(A71=\"\",A75=\"\"),\"\",IF(A71=A75,B71+1,IF(A71<>A75,1)))","v":""}]
[]
[]
[]
[null,{"$f":"IF(OR(A75=\"\",A79=\"\"),\"\",IF(A75=A79,B75+1,IF(A75<>A79,1)))","v":""}]
[]
[]
[]
[null,{"$f":"IF(OR(A79=\"\",A83=\"\"),\"\",IF(A79=A83,B79+1,IF(A79<>A83,1)))","v":""}]
[]
[]
[]
[null,""]
[]
[]
[]
[null,""]
[]
[]
[]
[null,""]

{"sheet":"組合せ印刷","index":3,"n_rows":78,"n_cols":17,"rows_kept":78,"cut":false,"hidden":false,"merged":[[75,0,77,0],[75,1,77,1],[75,2,75,5],[75,6,75,9],[75,10,75,13],[75,14,75,17],[76,2,76,5],[76,6,76,9],[76,10,76,13],[76,14,76,17],[77,2,77,3],[77,6,77,7],[77,10,77,11],[77,14,77,15],[72,0,74,0],[72,1,74,1],[72,2,72,5],[72,6,72,9],[72,10,72,13],[72,14,72,17],[73,2,73,5],[73,6,73,9],[73,10,73,13],[73,14,73,17],[74,2,74,3],[74,6,74,7],[74,10,74,11],[74,14,74,15],[69,0,71,0],[69,1,71,1],[69,2,69,5],[69,6,69,9],[69,10,69,13],[69,14,69,17],[70,2,70,5],[70,6,70,9],[70,10,70,13],[70,14,70,17],[71,2,71,3],[71,6,71,7],[71,10,71,11],[71,14,71,15],[66,0,68,0],[66,1,68,1],[66,2,66,5],[66,6,66,9],[66,10,66,13],[66,14,66,17],[67,2,67,5],[67,6,67,9],[67,10,67,13],[67,14,67,17],[68,2,68,3],[68,6,68,7],[68,10,68,11],[68,14,68,15],[63,0,65,0],[63,1,65,1],[63,2,63,5],[63,6,63,9],[63,10,63,13],[63,14,63,17],[64,2,64,5],[64,6,64,9],[64,10,64,13],[64,14,64,17],[65,2,65,3],[65,6,65,7],[65,10,65,11],[65,14,65,15],[60,0,62,0],[60,1,62,1],[60,2,60,5],[60,6,60,9],[60,10,60,13],[60,14,60,17],[61,2,61,5],[61,6,61,9],[61,10,61,13],[61,14,61,17],[62,2,62,3],[62,6,62,7],[62,10,62,11],[62,14,62,15],[57,0,59,0],[57,1,59,1],[57,2,57,5],[57,6,57,9],[57,10,57,13],[57,14,57,17],[58,2,58,5],[58,6,58,9],[58,10,58,13],[58,14,58,17],[59,2,59,3],[59,6,59,7],[59,10,59,11],[59,14,59,15],[54,0,56,0],[54,1,56,1],[54,2,54,5],[54,6,54,9],[54,10,54,13],[54,14,54,17],[55,2,55,5],[55,6,55,9],[55,10,55,13],[55,14,55,17],[56,2,56,3],[56,6,56,7],[56,10,56,11],[56,14,56,15],[51,0,53,0],[51,1,53,1],[51,2,51,5],[51,6,51,9],[51,10,51,13],[51,14,51,17],[52,2,52,5],[52,6,52,9],[52,10,52,13],[52,14,52,17],[53,2,53,3],[53,6,53,7],[53,10,53,11],[53,14,53,15],[48,0,50,0],[48,1,50,1],[48,2,48,5],[48,6,48,9],[48,10,48,13],[48,14,48,17],[49,2,49,5],[49,6,49,9],[49,10,49,13],[49,14,49,17],[50,2,50,3],[50,6,50,7],[50,10,50,11],[50,14,50,15],[45,0,47,0],[45,1,47,1],[45,2,45,5],[45,6,45,9],[45,10,45,13],[45,14,45,17],[46,2,46,5],[46,6,46,9],[46,10,46,13],[46,14,46,17],[47,2,47,3],[47,6,47,7],[47,10,47,11],[47,14,47,15],[42,0,44,0],[42,1,44,1],[42,2,42,5],[42,6,42,9],[42,10,42,13],[42,14,42,17],[43,2,43,5],[43,6,43,9],[43,10,43,13],[43,14,43,17],[44,2,44,3],[44,6,44,7],[44,10,44,11],[44,14,44,15],[6,2,6,5],[7,2,7,5],[8,6,8,7],[8,10,8,11],[0,0,0,17],[2,0,2,17],[5,2,5,5],[5,6,5,9],[5,10,5,13],[5,14,5,17],[3,0,3,8],[3,9,3,17],[11,6,11,7],[11,10,11,11],[11,14,11,15],[11,2,11,3],[10,10,10,13],[6,0,8,0],[9,14,9,17],[10,2,10,5],[10,6,10,9],[10,14,10,17],[9,1,11,1],[9,2,9,5],[9,6,9,9],[9,10,9,13],[9,0,11,0],[8,14,8,15],[6,1,8,1],[6,6,6,9],[6,10,6,13],[6,14,6,17],[7,6,7,9],[7,10,7,13],[7,14,7,17],[8,2,8,3],[14,10,14,11],[14,14,14,15],[15,2,15,5],[15,6,15,9],[15,10,15,13],[15,14,15,17],[12,2,12,5],[12,6,12,9],[12,10,12,13],[12,14,12,17],[13,2,13,5],[13,6,13,9],[13,10,13,13],[13,14,13,17],[18,2,18,5],[18,6,18,9],[18,10,18,13],[18,14,18,17],[19,2,19,5],[19,6,19,9],[19,10,19,13],[19,14,19,17],[12,0,14,0],[12,1,14,1],[15,0,17,0],[15,1,17,1],[18,0,20,0],[18,1,20,1],[16,2,16,5],[16,6,16,9],[16,10,16,13],[16,14,16,17],[17,2,17,3],[17,6,17,7],[17,10,17,11],[17,14,17,15],[14,2,14,3],[14,6,14,7],[20,2,20,3],[20,6,20,7],[20,10,20,11],[20,14,20,15],[21,0,23,0],[21,1,23,1],[21,2,21,5],[21,6,21,9],[21,10,21,13],[21,14,21,17],[22,2,22,5],[22,6,22,9],[22,10,22,13],[22,14,22,17],[23,2,23,3],[23,6,23,7],[23,10,23,11],[23,14,23,15],[24,0,26,0],[24,1,26,1],[24,2,24,5],[24,6,24,9],[24,10,24,13],[24,14,24,17],[25,2,25,5],[25,6,25,9],[25,10,25,13],[25,14,25,17],[26,2,26,3],[26,6,26,7],[26,10,26,11],[26,14,26,15],[27,14,27,17],[28,2,28,5],[28,6,28,9],[28,10,28,13],[28,14,28,17],[27,0,29,0],[27,1,29,1],[27,2,27,5],[27,6,27,9],[27,10,27,13],[29,2,29,3],[29,6,29,7],[29,10,29,11],[29,14,29,15],[30,0,32,0],[30,1,32,1],[30,2,30,5],[30,6,30,9],[30,10,30,13],[30,14,30,17],[31,2,31,5],[31,6,31,9],[31,10,31,13],[31,14,31,17],[32,2,32,3],[32,6,32,7],[32,10,32,11],[32,14,32,15],[33,14,33,17],[34,2,34,5],[34,6,34,9],[34,10,34,13],[34,14,34,17],[33,0,35,0],[33,1,35,1],[33,2,33,5],[33,6,33,9],[33,10,33,13],[35,2,35,3],[35,6,35,7],[35,10,35,11],[35,14,35,15],[36,0,38,0],[36,1,38,1],[36,2,36,5],[36,6,36,9],[36,10,36,13],[36,14,36,17],[37,2,37,5],[37,6,37,9],[37,10,37,13],[37,14,37,17],[38,2,38,3],[38,6,38,7],[38,10,38,11],[38,14,38,15],[41,14,41,15],[39,14,39,17],[40,2,40,5],[40,6,40,9],[40,10,40,13],[40,14,40,17],[39,0,41,0],[39,1,41,1],[39,2,39,5],[39,6,39,9],[39,10,39,13],[41,2,41,3],[41,6,41,7],[41,10,41,11]]}
["組合せ表"]
[]
[{"$f":"コンぺ内容入力!E4","v":0}]
[{"$f":"コンぺ内容入力!E8","v":"00:00:00"},null,null,null,null,null,null,null,null,{"$f":"TEXT(コンぺ内容入力!N8,\"スタート時間 h:mm\"&\"～\")","v":"スタート時間選択"}]
[]
["コース","No","氏　　　名",null,null,null,"氏　　　名",null,null,null,"氏　　　名",null,null,null,"氏　　　名"]
[{"$f":"組合せ入力!A3","v":0},{"$f":"組合せ入力!B3","v":1},{"$f":"組合せ入力!G3","v":0},null,null,null,{"$f":"組合せ入力!G4","v":0},null,null,null,{"$f":"組合せ入力!G5","v":0},null,null,null,{"$f":"組合せ入力!G6","v":0}]
[null,null,{"$f":"組合せ入力!D3","v":0},null,null,null,{"$f":"組合せ入力!D4","v":0},null,null,null,{"$f":"組合せ入力!D5","v":0},null,null,null,{"$f":"組合せ入力!D6","v":0}]
[null,null,null,null,"HD",null,null,null,"HD",null,null,null,"HD",null,null,null,"HD"]
[{"$f":"組合せ入力!A7","v":0},{"$f":"組合せ入力!B7","v":""},{"$f":"組合せ入力!G7","v":0},null,null,null,{"$f":"組合せ入力!G8","v":0},null,null,null,{"$f":"組合せ入力!G9","v":0},null,null,null,{"$f":"組合せ入力!G10","v":0}]
[null,null,{"$f":"組合せ入力!D7","v":0},null,null,null,{"$f":"組合せ入力!D8","v":0},null,null,null,{"$f":"組合せ入力!D9","v":0},null,null,null,{"$f":"組合せ入力!D10","v":0}]
[null,null,null,null,"HD",null,null,null,"HD",null,null,null,"HD",null,null,null,"HD"]
[{"$f":"組合せ入力!A11","v":0},{"$f":"組合せ入力!B11","v":""},{"$f":"組合せ入力!G11","v":0},null,null,null,{"$f":"組合せ入力!G12","v":0},null,null,null,{"$f":"組合せ入力!G13","v":0},null,null,null,{"$f":"組合せ入力!G14","v":0}]
[null,null,{"$f":"組合せ入力!D11","v":0},null,null,null,{"$f":"組合せ入力!D12","v":0},null,null,null,{"$f":"組合せ入力!D13","v":0},null,null,null,{"$f":"組合せ入力!D14","v":0}]
[null,null,null,null,"HD",null,null,null,"HD",null,null,null,"HD",null,null,null,"HD"]
[{"$f":"組合せ入力!A15","v":0},{"$f":"組合せ入力!B15","v":""},{"$f":"組合せ入力!G15","v":0},null,null,null,{"$f":"組合せ入力!G16","v":0},null,null,null,{"$f":"組合せ入力!G17","v":0},null,null,null,{"$f":"組合せ入力!G18","v":0}]
[null,null,{"$f":"組合せ入力!D15","v":0},null,null,null,{"$f":"組合せ入力!D16","v":0},null,null,null,{"$f":"組合せ入力!D17","v":0},null,null,null,{"$f":"組合せ入力!D18","v":0}]
[null,null,null,null,"HD",null,null,null,"HD",null,null,null,"HD",null,null,null,"HD"]
[{"$f":"組合せ入力!A19","v":0},{"$f":"組合せ入力!B19","v":""},{"$f":"組合せ入力!G19","v":0},null,null,null,{"$f":"組合せ入力!G20","v":0},null,null,null,{"$f":"組合せ入力!G21","v":0},null,null,null,{"$f":"組合せ入力!G22","v":0}]
[null,null,{"$f":"組合せ入力!D19","v":0},null,null,null,{"$f":"組合せ入力!D20","v":0},null,null,null,{"$f":"組合せ入力!D21","v":0},null,null,null,{"$f":"組合せ入力!D22","v":0}]
[null,null,null,null,"HD",null,null,null,"HD",null,null,null,"HD",null,null,null,"HD"]
[{"$f":"組合せ入力!A23","v":0},{"$f":"組合せ入力!B23","v":""},{"$f":"組合せ入力!G23","v":0},null,null,null,{"$f":"組合せ入力!G24","v":0},null,null,null,{"$f":"組合せ入力!G25","v":0},null,null,null,{"$f":"組合せ入力!G26","v":0}]
[null,null,{"$f":"組合せ入力!D23","v":0},null,null,null,{"$f":"組合せ入力!D24","v":0},null,null,null,{"$f":"組合せ入力!D25","v":0},null,null,null,{"$f":"組合せ入力!D26","v":0}]
[null,null,null,null,"HD",null,null,null,"HD",null,null,null,"HD",null,null,null,"HD"]
[{"$f":"組合せ入力!A27","v":0},{"$f":"組合せ入力!B27","v":""},{"$f":"組合せ入力!G27","v":0},null,null,null,{"$f":"組合せ入力!G28","v":0},null,null,null,{"$f":"組合せ入力!G29","v":0},null,null,null,{"$f":"組合せ入力!G30","v":0}]
[null,null,{"$f":"組合せ入力!D27","v":0},null,null,null,{"$f":"組合せ入力!D28","v":0},null,null,null,{"$f":"組合せ入力!D29","v":0},null,null,null,{"$f":"組合せ入力!D30","v":0}]
[null,null,null,null,"HD",null,null,null,"HD",null,null,null,"HD",null,null,null,"HD"]
[{"$f":"組合せ入力!A31","v":0},{"$f":"組合せ入力!B31","v":""},{"$f":"組合せ入力!G31","v":0},null,null,null,{"$f":"組合せ入力!G32","v":0},null,null,null,{"$f":"組合せ入力!G33","v":0},null,null,null,{"$f":"組合せ入力!G34","v":0}]
[null,null,{"$f":"組合せ入力!D31","v":0},null,null,null,{"$f":"組合せ入力!D32","v":0},null,null,null,{"$f":"組合せ入力!D33","v":0},null,null,null,{"$f":"組合せ入力!D34","v":0}]
[null,null,null,null,"HD",null,null,null,"HD",null,null,null,"HD",null,null,null,"HD"]
[{"$f":"組合せ入力!A35","v":0},{"$f":"組合せ入力!B35","v":""},{"$f":"組合せ入力!G35","v":0},null,null,null,{"$f":"組合せ入力!G36","v":0},null,null,null,{"$f":"組合せ入力!G37","v":0},null,null,null,{"$f":"組合せ入力!G38","v":0}]
[null,null,{"$f":"組合せ入力!D35","v":0},null,null,null,{"$f":"組合せ入力!D36","v":0},null,null,null,{"$f":"組合せ入力!D37","v":0},null,null,null,{"$f":"組合せ入力!D38","v":0}]
[null,null,null,null,"HD",null,null,null,"HD",null,null,null,"HD",null,null,null,"HD"]
[{"$f":"組合せ入力!A39","v":0},{"$f":"組合せ入力!B39","v":""},{"$f":"組合せ入力!G39","v":0},null,null,null,{"$f":"組合せ入力!G40","v":0},null,null,null,{"$f":"組合せ入力!G41","v":0},null,null,null,{"$f":"組合せ入力!G42","v":0}]
[null,null,{"$f":"組合せ入力!D39","v":0},null,null,null,{"$f":"組合せ入力!D40","v":0},null,null,null,{"$f":"組合せ入力!D41","v":0},null,null,null,{"$f":"組合せ入力!D42","v":0}]
[null,null,null,null,"HD",null,null,null,"HD",null,null,null,"HD",null,null,null,"HD"]
[{"$f":"組合せ入力!A43","v":0},{"$f":"組合せ入力!B43","v":""},{"$f":"組合せ入力!G43","v":0},null,null,null,{"$f":"組合せ入力!G44","v":0},null,null,null,{"$f":"組合せ入力!G45","v":0},null,null,null,{"$f":"組合せ入力!G46","v":0}]
[null,null,{"$f":"組合せ入力!D43","v":0},null,null,null,{"$f":"組合せ入力!D44","v":0},null,null,null,{"$f":"組合せ入力!D45","v":0},null,null,null,{"$f":"組合せ入力!D46","v":0}]
[null,null,null,null,"HD",null,null,null,"HD",null,null,null,"HD",null,null,null,"HD"]
[{"$f":"組合せ入力!A47","v":0},{"$f":"組合せ入力!B47","v":""},{"$f":"組合せ入力!G47","v":0},null,null,null,{"$f":"組合せ入力!G48","v":0},null,null,null,{"$f":"組合せ入力!G49","v":0},null,null,null,{"$f":"組合せ入力!G50","v":0}]
[null,null,{"$f":"組合せ入力!D47","v":0},null,null,null,{"$f":"組合せ入力!D48","v":0},null,null,null,{"$f":"組合せ入力!D49","v":0},null,null,null,{"$f":"組合せ入力!D50","v":0}]
[null,null,null,null,"HD",null,null,null,"HD",null,null,null,"HD",null,null,null,"HD"]
[{"$f":"組合せ入力!A39","v":0},{"$f":"組合せ入力!B39","v":""},{"$f":"組合せ入力!G51","v":0},null,null,null,{"$f":"組合せ入力!G52","v":0},null,null,null,{"$f":"組合せ入力!G53","v":0},null,null,null,{"$f":"組合せ入力!G54","v":0}]
[null,null,{"$f":"組合せ入力!D51","v":0},null,null,null,{"$f":"組合せ入力!D52","v":0},null,null,null,{"$f":"組合せ入力!D53","v":0},null,null,null,{"$f":"組合せ入力!D54","v":0}]
[null,null,null,null,"HD",null,null,null,"HD",null,null,null,"HD",null,null,null,"HD"]
[{"$f":"組合せ入力!A43","v":0},{"$f":"組合せ入力!B43","v":""},{"$f":"組合せ入力!G55","v":0},null,null,null,{"$f":"組合せ入力!G56","v":0},null,null,null,{"$f":"組合せ入力!G57","v":0},null,null,null,{"$f":"組合せ入力!G58","v":0}]
[null,null,{"$f":"組合せ入力!D55","v":0},null,null,null,{"$f":"組合せ入力!D56","v":0},null,null,null,{"$f":"組合せ入力!D57","v":0},null,null,null,{"$f":"組合せ入力!D58","v":0}]
[null,null,null,null,"HD",null,null,null,"HD",null,null,null,"HD",null,null,null,"HD"]
[{"$f":"組合せ入力!A47","v":0},{"$f":"組合せ入力!B47","v":""},{"$f":"組合せ入力!G59","v":0},null,null,null,{"$f":"組合せ入力!G60","v":0},null,null,null,{"$f":"組合せ入力!G61","v":0},null,null,null,{"$f":"組合せ入力!G62","v":0}]
[null,null,{"$f":"組合せ入力!D59","v":0},null,null,null,{"$f":"組合せ入力!D60","v":0},null,null,null,{"$f":"組合せ入力!D61","v":0},null,null,null,{"$f":"組合せ入力!D62","v":0}]
[null,null,null,null,"HD",null,null,null,"HD",null,null,null,"HD",null,null,null,"HD"]
[{"$f":"組合せ入力!A51","v":0},{"$f":"組合せ入力!B51","v":""},{"$f":"組合せ入力!G63","v":0},null,null,null,{"$f":"組合せ入力!G64","v":0},null,null,null,{"$f":"組合せ入力!G65","v":0},null,null,null,{"$f":"組合せ入力!G66","v":0}]
[null,null,{"$f":"組合せ入力!D63","v":0},null,null,null,{"$f":"組合せ入力!D64","v":0},null,null,null,{"$f":"組合せ入力!D65","v":0},null,null,null,{"$f":"組合せ入力!D66","v":0}]
[null,null,null,null,"HD",null,null,null,"HD",null,null,null,"HD",null,null,null,"HD"]
[{"$f":"組合せ入力!A55","v":0},{"$f":"組合せ入力!B55","v":""},{"$f":"組合せ入力!G67","v":0},null,null,null,{"$f":"組合せ入力!G68","v":0},null,null,null,{"$f":"組合せ入力!G69","v":0},null,null,null,{"$f":"組合せ入力!G70","v":0}]
[null,null,{"$f":"組合せ入力!D67","v":0},null,null,null,{"$f":"組合せ入力!D68","v":0},null,null,null,{"$f":"組合せ入力!D69","v":0},null,null,null,{"$f":"組合せ入力!D70","v":0}]
[null,null,null,null,"HD",null,null,null,"HD",null,null,null,"HD",null,null,null,"HD"]
[{"$f":"組合せ入力!A59","v":0},{"$f":"組合せ入力!B59","v":""},{"$f":"組合せ入力!G71","v":0},null,null,null,{"$f":"組合せ入力!G72","v":0},null,null,null,{"$f":"組合せ入力!G73","v":0},null,null,null,{"$f":"組合せ入力!G74","v":0}]
[null,null,{"$f":"組合せ入力!D71","v":0},null,null,null,{"$f":"組合せ入力!D72","v":0},null,null,null,{"$f":"組合せ入力!D73","v":0},null,null,null,{"$f":"組合せ入力!D74","v":0}]
[null,null,null,null,"HD",null,null,null,"HD",null,null,null,"HD",null,null,null,"HD"]
[{"$f":"組合せ入力!A63","v":0},{"$f":"組合せ入力!B63","v":""},{"$f":"組合せ入力!G75","v":0},null,null,null,{"$f":"組合せ入力!G76","v":0},null,null,null,{"$f":"組合せ入力!G77","v":0},null,null,null,{"$f":"組合せ入力!G78","v":0}]
[null,null,{"$f":"組合せ入力!D75","v":0},null,null,null,{"$f":"組合せ入力!D76","v":0},null,null,null,{"$f":"組合せ入力!D77","v":0},null,null,null,{"$f":"組合せ入力!D7","v":0}]
[null,null,null,null,"HD",null,null,null,"HD",null,null,null,"HD",null,null,null,"HD"]
[{"$f":"組合せ入力!A67","v":0},{"$f":"組合せ入力!B67","v":""},{"$f":"組合せ入力!G79","v":0},null,null,null,{"$f":"組合せ入力!G80","v":0},null,null,null,{"$f":"組合せ入力!G81","v":0},null,null,null,{"$f":"組合せ入力!G82","v":0}]
[null,null,{"$f":"組合せ入力!D79","v":0},null,null,null,{"$f":"組合せ入力!D80","v":0},null,null,null,{"$f":"組合せ入力!D81","v":0},null,null,null,{"$f":"組合せ入力!D82","v":0}]
[null,null,null,null,"HD",null,null,null,"HD",null,null,null,"HD",null,null,null,"HD"]
[{"$f":"組合せ入力!A71","v":0},{"$f":"組合せ入力!B71","v":""},{"$f":"組合せ入力!G83","v":0},null,null,null,{"$f":"組合せ入力!G84","v":0},null,null,null,{"$f":"組合せ入力!G85","v":0},null,null,null,{"$f":"組合せ入力!G86","v":0}]
[null,null,{"$f":"組合せ入力!D83","v":0},null,null,null,{"$f":"組合せ入力!D84","v":0},null,null,null,{"$f":"組合せ入力!D85","v":0},null,null,null,{"$f":"組合せ入力!D86","v":0}]
[null,null,null,null,"HD",null,null,null,"HD",null,null,null,"HD",null,null,null,"HD"]
[{"$f":"組合せ入力!A75","v":0},{"$f":"組合せ入力!B75","v":""},{"$f":"組合せ入力!G87","v":0},null,null,null,{"$f":"組合せ入力!G88","v":0},null,null,null,{"$f":"組合せ入力!G89","v":0},null,null,null,{"$f":"組合せ入力!G90","v":0}]
[null,null,{"$f":"組合せ入力!D87","v":0},null,null,null,{"$f":"組合せ入力!D88","v":0},null,null,null,{"$f":"組合せ入力!D89","v":0},null,null,null,{"$f":"組合せ入力!D90","v":0}]
[null,null,null,null,"HD",null,null,null,"HD",null,null,null,"HD",null,null,null,"HD"]
[{"$f":"組合せ入力!A79","v":0},{"$f":"組合せ入力!B79","v":""},{"$f":"組合せ入力!G91","v":0},null,null,null,{"$f":"組合せ入力!G92","v":0},null,null,null,{"$f":"組合せ入力!G93","v":0},null,null,null,{"$f":"組合せ入力!G94","v":0}]
[null,null,{"$f":"組合せ入力!D91","v":0},null,null,null,{"$f":"組合せ入力!D92","v":0},null,null,null,{"$f":"組合せ入力!D93","v":0},null,null,null,{"$f":"組合せ入力!D94","v":0}]
[null,null,null,null,"HD",null,null,null,"HD",null,null,null,"HD",null,null,null,"HD"]
[{"$f":"組合せ入力!A83","v":0},{"$f":"組合せ入力!B83","v":""},{"$f":"組合せ入力!G95","v":0},null,null,null,{"$f":"組合せ入力!G96","v":0},null,null,null,{"$f":"組合せ入力!G97","v":0},null,null,null,{"$f":"組合せ入力!G98","v":0}]
[null,null,{"$f":"組合せ入力!D95","v":0},null,null,null,{"$f":"組合せ入力!D96","v":0},null,null,null,{"$f":"組合せ入力!D97","v":0},null,null,null,{"$f":"組合せ入力!D98","v":0}]
[null,null,null,null,"HD",null,null,null,"HD",null,null,null,"HD",null,null,null,"HD"]